BEGIN:VCALENDAR
VERSION:2.0
PRODID:-//Biserica Adventista de Ziua a Saptea - ECPv5.14.2.1//NONSGML v1.0//EN
CALSCALE:GREGORIAN
METHOD:PUBLISH
X-WR-CALNAME:Biserica Adventista de Ziua a Saptea
X-ORIGINAL-URL:https://dumbravarosie.adventist.ro
X-WR-CALDESC:Events for Biserica Adventista de Ziua a Saptea
BEGIN:VTIMEZONE
TZID:UTC
BEGIN:STANDARD
TZOFFSETFROM:+0000
TZOFFSETTO:+0000
TZNAME:UTC
DTSTART:20170101T000000
END:STANDARD
END:VTIMEZONE
BEGIN:VEVENT
DTSTART;TZID=UTC:20170305T180000
DTEND;TZID=UTC:20170305T190000
DTSTAMP:20260426T040816
CREATED:20170214T141533Z
LAST-MODIFIED:20170214T141533Z
UID:8483-1488736800-1488740400@dumbravarosie.adventist.ro
SUMMARY:IX. "Ultima strigare" / Sunteti invitati!
DESCRIPTION:Intalnire si dezbatere deschisa ce va concluziona seria de dezbateri deschise organizata de comunitatea AZS Dumbrava Rosie Constanta. \nVa asteptam!
URL:https://dumbravarosie.adventist.ro/eveniment/ix-ultima-strigare-sunteti-invitati/
LOCATION:Libraria SOLA SCRIPTURA\, Str. Mircea cel Bătrân nr. 14\, parter\, Constanta\, Constanta\, România
CATEGORIES:Comunitate,Educatie,Seminar
ATTACH;FMTTYPE=image/jpeg:https://dumbravarosie.adventist.ro/wp-content/uploads/2015/06/devotional_bible.jpg
END:VEVENT
END:VCALENDAR