BEGIN:VCALENDAR
VERSION:2.0
PRODID:-//Biserica Adventista de Ziua a Saptea - ECPv5.14.2.1//NONSGML v1.0//EN
CALSCALE:GREGORIAN
METHOD:PUBLISH
X-WR-CALNAME:Biserica Adventista de Ziua a Saptea
X-ORIGINAL-URL:https://dumbravarosie.adventist.ro
X-WR-CALDESC:Events for Biserica Adventista de Ziua a Saptea
BEGIN:VTIMEZONE
TZID:UTC
BEGIN:STANDARD
TZOFFSETFROM:+0000
TZOFFSETTO:+0000
TZNAME:UTC
DTSTART:20170101T000000
END:STANDARD
END:VTIMEZONE
BEGIN:VEVENT
DTSTART;TZID=UTC:20170226T180000
DTEND;TZID=UTC:20170226T190000
DTSTAMP:20260426T022008
CREATED:20170214T135955Z
LAST-MODIFIED:20170214T140309Z
UID:8466-1488132000-1488135600@dumbravarosie.adventist.ro
SUMMARY:VI. "Fetele imposturii"
DESCRIPTION:Titlul a celei de-a 6-a intalniri este: \n„Fetele imposturii”
URL:https://dumbravarosie.adventist.ro/eveniment/vi-fetele-imposturii-dezbatere-deschisa/
LOCATION:Libraria SOLA SCRIPTURA\, Str. Mircea cel Bătrân nr. 14\, parter\, Constanta\, Constanta\, România
CATEGORIES:Comunitate,Educatie,Rugaciune,Seminar
ATTACH;FMTTYPE=image/jpeg:https://dumbravarosie.adventist.ro/wp-content/uploads/2015/06/devotional_bible.jpg
END:VEVENT
END:VCALENDAR